BEGIN:VCALENDAR
VERSION:2.0
PRODID:-//wp-events-plugin.com//7.2.3.1//EN
TZID:Europe/Paris
X-WR-TIMEZONE:Europe/Paris
BEGIN:VEVENT
UID:4810@laptitefabriquesolidaire.org
DTSTART;TZID=Europe/Paris:20260104T100000
DTEND;TZID=Europe/Paris:20260104T120000
DTSTAMP:20251017T171933Z
URL:https://www.laptitefabriquesolidaire.org/evenements/yoga-kid-et-duo-pa
 rent-enfant-3/
SUMMARY:Yoga kid et duo parent/ enfant
DESCRIPTION:Yoga kid:découvrir le yoga (postures\, respiration) à partir 
 d’un imaginaire et d’autres outils pour apprendre à ralentir\, écout
 er\, observer … à partir de 6 ans.\n\nDuo : un atelier pour partager 
 un moment privilégié grâce à une approche ludique du yoga\, à partir 
 de 3 ans.\n\nRenseignements et inscriptions : Marielle à semerdesailes@g
 mail.com 06 41 82 71 31\n\nà la P'tite Fabrique
ATTACH;FMTTYPE=image/jpeg:https://www.laptitefabriquesolidaire.org/wp-cont
 ent/uploads/2025/10/logo-entier-pdf.jpg
END:VEVENT
BEGIN:VTIMEZONE
TZID:Europe/Paris
X-LIC-LOCATION:Europe/Paris
BEGIN:STANDARD
DTSTART:20251026T020000
TZOFFSETFROM:+0200
TZOFFSETTO:+0100
TZNAME:CET
END:STANDARD
END:VTIMEZONE
END:VCALENDAR