BEGIN:VCALENDAR
VERSION:2.0
PRODID:-//wp-events-plugin.com//7.2.3.1//EN
TZID:Europe/Paris
X-WR-TIMEZONE:Europe/Paris
BEGIN:VEVENT
UID:4771@laptitefabriquesolidaire.org
DTSTART;TZID=Europe/Paris:20260101T124500
DTEND;TZID=Europe/Paris:20260101T134500
DTSTAMP:20251017T170856Z
URL:https://www.laptitefabriquesolidaire.org/evenements/pilates-basique-in
 tense-2025-12-04-2025-12-11-2025-12-18-2025-12-25-2026-01-01/
SUMMARY:Pilates Basique Intense
DESCRIPTION:Salle de danse\n\nProfesseur : Elsa PERNOT\nInscriptions : pila
 tesmarengo@gmail.com\nTarif : 19 séances - 3 chèques de 70 euros soit 21
 0 euros.\nUne séance de Pilates quel que soit votre niveau\, ou on tonifi
 e le corps en profondeur\, et sur la résistance physique\, tout en l'allo
 ngeant sans l'écarteler !\nLa respiration\, la fluidité\, le centrage\, 
 sont au coeur de la pratique du Pilates\, tout le corps est sollicité dan
 s chaque mouvement...
ATTACH;FMTTYPE=image/jpeg:https://www.laptitefabriquesolidaire.org/wp-cont
 ent/uploads/2025/09/IMG_9634.jpg
END:VEVENT
BEGIN:VTIMEZONE
TZID:Europe/Paris
X-LIC-LOCATION:Europe/Paris
BEGIN:STANDARD
DTSTART:20251026T020000
TZOFFSETFROM:+0200
TZOFFSETTO:+0100
TZNAME:CET
END:STANDARD
END:VTIMEZONE
END:VCALENDAR