BEGIN:VCALENDAR
VERSION:2.0
PRODID:-//wp-events-plugin.com//7.2.3.1//EN
TZID:Europe/Paris
X-WR-TIMEZONE:Europe/Paris
BEGIN:VEVENT
UID:4804@laptitefabriquesolidaire.org
DTSTART;TZID=Europe/Paris:20260820T124500
DTEND;TZID=Europe/Paris:20260820T134500
DTSTAMP:20251017T170856Z
URL:https://www.laptitefabriquesolidaire.org/evenements/pilates-basique-in
 tense-2025-12-04-2025-12-11-2025-12-18-2025-12-25-2026-01-01-2026-01-08-20
 26-01-15-2026-01-22-2026-01-29-2026-02-05-2026-02-12-2026-02-19-2026-02-26
 -2026-03-05-2026-03-13-2026-08-20/
SUMMARY:Pilates Basique Intense
DESCRIPTION:Salle de danse\n\nProfesseur : Elsa PERNOT\nInscriptions : pila
 tesmarengo@gmail.com\nTarif : 19 séances - 3 chèques de 70 euros soit 21
 0 euros.\nUne séance de Pilates quel que soit votre niveau\, ou on tonifi
 e le corps en profondeur\, et sur la résistance physique\, tout en l'allo
 ngeant sans l'écarteler !\nLa respiration\, la fluidité\, le centrage\, 
 sont au coeur de la pratique du Pilates\, tout le corps est sollicité dan
 s chaque mouvement...
ATTACH;FMTTYPE=image/jpeg:https://www.laptitefabriquesolidaire.org/wp-cont
 ent/uploads/2025/09/IMG_9634.jpg
END:VEVENT
BEGIN:VTIMEZONE
TZID:Europe/Paris
X-LIC-LOCATION:Europe/Paris
BEGIN:DAYLIGHT
DTSTART:20260329T030000
TZOFFSETFROM:+0100
TZOFFSETTO:+0200
TZNAME:CEST
END:DAYLIGHT
END:VTIMEZONE
END:VCALENDAR