BEGIN:VCALENDAR
VERSION:2.0
PRODID:-//wp-events-plugin.com//7.2.3.1//EN
TZID:Europe/Paris
X-WR-TIMEZONE:Europe/Paris
BEGIN:VEVENT
UID:4303@laptitefabriquesolidaire.org
DTSTART;TZID=Europe/Paris:20250918T180000
DTEND;TZID=Europe/Paris:20250918T210000
DTSTAMP:20250904T130010Z
URL:https://www.laptitefabriquesolidaire.org/evenements/olympiades-des-tie
 rs-lieux-a-la-ruelle-segur-le-chateau/
SUMMARY:Olympiades des Tiers-Lieux à la Ruelle (Ségur-Le-Chateau)
DESCRIPTION:Avec la Ruelle et le Tilcafé\nEt si vous veniez découvrir d'a
 utres Tiers-Lieux et rencontrer leurs adhérent.e.s?\nDes jeux\, des lots 
 à gagner\, de la rigolade... Auberge espagnole. Ouvert à tou.te.s !
ATTACH;FMTTYPE=image/jpeg:https://www.laptitefabriquesolidaire.org/wp-cont
 ent/uploads/2025/09/531222308_746123548126179_7687561509491195807_n.jpg
CATEGORIES:Évènement
END:VEVENT
BEGIN:VTIMEZONE
TZID:Europe/Paris
X-LIC-LOCATION:Europe/Paris
BEGIN:DAYLIGHT
DTSTART:20250330T030000
TZOFFSETFROM:+0100
TZOFFSETTO:+0200
TZNAME:CEST
END:DAYLIGHT
END:VTIMEZONE
END:VCALENDAR