BEGIN:VCALENDAR
VERSION:2.0
PRODID:-//wp-events-plugin.com//7.2.3.1//EN
TZID:Europe/Paris
X-WR-TIMEZONE:Europe/Paris
BEGIN:VEVENT
UID:4814@laptitefabriquesolidaire.org
DTSTART;TZID=Europe/Paris:20241211T170000
DTEND;TZID=Europe/Paris:20241211T220000
DTSTAMP:20251017T172739Z
URL:https://www.laptitefabriquesolidaire.org/evenements/marche-festif-a-la
 -papeterie/
SUMMARY:Marché festif à la Papeterie
DESCRIPTION:\nLa P'tite Fabrique Solidaire vous propose à nouveau un march
 é festif le jeudi 11 décembre de 17h00 à 22h00 à la Papeterie (dans et
  devant l'Entre-Deux).\n\nAu programme : Animations\, jeux\, petite restau
 ration + buvette\, ambiance musicale\, stands artisanat et gourmandises\, 
 cadeaux pour les fêtes et Tombolidaire.\n\nSi vous voulez venir vendre vo
 s créations et/ou donner un coup de main pour l'organisation merci de con
 tacter Alice M. au 06 07 39 60 20 (merci de laisser un message) ou par mai
 l boubycat@gmail.com\n\n&nbsp\;\n\n&nbsp\;
ATTACH;FMTTYPE=image/jpeg:https://www.laptitefabriquesolidaire.org/wp-cont
 ent/uploads/2025/10/Joy.png
CATEGORIES:Évènement
END:VEVENT
BEGIN:VTIMEZONE
TZID:Europe/Paris
X-LIC-LOCATION:Europe/Paris
BEGIN:STANDARD
DTSTART:20241027T020000
TZOFFSETFROM:+0200
TZOFFSETTO:+0100
TZNAME:CET
END:STANDARD
END:VTIMEZONE
END:VCALENDAR