BEGIN:VCALENDAR
VERSION:2.0
PRODID:-//wp-events-plugin.com//7.2.3.1//EN
TZID:Europe/Paris
X-WR-TIMEZONE:Europe/Paris
BEGIN:VEVENT
UID:4820@laptitefabriquesolidaire.org
DTSTART;TZID=Europe/Paris:20251211T173000
DTEND;TZID=Europe/Paris:20251211T210000
DTSTAMP:20251126T163855Z
URL:https://www.laptitefabriquesolidaire.org/evenements/marche-du-temps-de
 s-fetes/
SUMMARY:Marché du Temps des Fêtes
DESCRIPTION:La P'tite Fabrique Solidaire vous propose un marché festif ave
 c des animations\, jeux\, petite restauration et buvette\, ambiance musica
 le\, stands d'artisanat et gourmandises\, cadeaux pour les fêtes... 🎄\
 n\nRDV Place de la Papeterie à Uzerche\n\n 	17h30 : Contes &amp\; Ouvertu
 re du marché\n 	20h : Tirage de la Tombolidaire et remise des lots\n 	Ani
 mations : Jeux en bois\, jeux de société\, atelier furoshiki\n\n✨ Si v
 ous voulez venir vendre vos créations et/ou donner un coup de main pour l
 'organisation\, contactez Alice M. au 06.07.39.60.20 (merci de laisser un 
 message) ou par mail boubycat@gmail.com.
ATTACH;FMTTYPE=image/jpeg:https://www.laptitefabriquesolidaire.org/wp-cont
 ent/uploads/2025/11/Marchedutempsdesfetes2025-1.png
CATEGORIES:Évènement
END:VEVENT
BEGIN:VTIMEZONE
TZID:Europe/Paris
X-LIC-LOCATION:Europe/Paris
BEGIN:STANDARD
DTSTART:20251026T020000
TZOFFSETFROM:+0200
TZOFFSETTO:+0100
TZNAME:CET
END:STANDARD
END:VTIMEZONE
END:VCALENDAR