BEGIN:VCALENDAR
VERSION:2.0
PRODID:-//wp-events-plugin.com//7.2.3.1//EN
TZID:Europe/Paris
X-WR-TIMEZONE:Europe/Paris
BEGIN:VEVENT
UID:4088@laptitefabriquesolidaire.org
DTSTART;TZID=Europe/Paris:20251126T100000
DTEND;TZID=Europe/Paris:20251126T180000
DTSTAMP:20250826T151752Z
URL:https://www.laptitefabriquesolidaire.org/evenements/ludotheque-case-de
 part-2025-09-03-2025-09-17-2025-10-01-2025-10-15-2025-10-29-2025-11-12-202
 5-11-26/
SUMMARY:Ludothèque Case Départ
DESCRIPTION:Venez découvrir des jeux de sociétés ou jouer à ceux dont v
 ous avez envie avec Fanny\, de l'association Case Départ.\n\nPour tous le
 s enfants de 0 à 130 ans.\n\n&nbsp\;
ATTACH;FMTTYPE=image/jpeg:https://www.laptitefabriquesolidaire.org/wp-cont
 ent/uploads/2025/02/boarding-games.png
END:VEVENT
BEGIN:VTIMEZONE
TZID:Europe/Paris
X-LIC-LOCATION:Europe/Paris
BEGIN:STANDARD
DTSTART:20251026T020000
TZOFFSETFROM:+0200
TZOFFSETTO:+0100
TZNAME:CET
END:STANDARD
END:VTIMEZONE
END:VCALENDAR