BEGIN:VCALENDAR
VERSION:2.0
PRODID:-//wp-events-plugin.com//7.2.3.1//EN
TZID:Europe/Paris
X-WR-TIMEZONE:Europe/Paris
BEGIN:VEVENT
UID:4103@laptitefabriquesolidaire.org
DTSTART;TZID=Europe/Paris:20260624T100000
DTEND;TZID=Europe/Paris:20260624T180000
DTSTAMP:20250826T151752Z
URL:https://www.laptitefabriquesolidaire.org/evenements/ludotheque-case-de
 part-2025-09-03-2025-09-17-2025-10-01-2025-10-15-2025-10-29-2025-11-12-202
 5-11-26-2025-12-10-2025-12-24-2026-01-07-2026-01-21-2026-02-04-2026-02-18-
 2026-03-04-2026-03-1-10-2026-06-24/
SUMMARY:Ludothèque Case Départ
DESCRIPTION:Venez découvrir des jeux de sociétés ou jouer à ceux dont v
 ous avez envie avec Fanny\, de l'association Case Départ.\n\nPour tous le
 s enfants de 0 à 130 ans.\n\n&nbsp\;
ATTACH;FMTTYPE=image/jpeg:https://www.laptitefabriquesolidaire.org/wp-cont
 ent/uploads/2025/02/boarding-games.png
END:VEVENT
BEGIN:VTIMEZONE
TZID:Europe/Paris
X-LIC-LOCATION:Europe/Paris
BEGIN:DAYLIGHT
DTSTART:20260329T030000
TZOFFSETFROM:+0100
TZOFFSETTO:+0200
TZNAME:CEST
END:DAYLIGHT
END:VTIMEZONE
END:VCALENDAR