BEGIN:VCALENDAR
VERSION:2.0
PRODID:-//wp-events-plugin.com//7.2.3.1//EN
TZID:Europe/Paris
X-WR-TIMEZONE:Europe/Paris
BEGIN:VEVENT
UID:4002@laptitefabriquesolidaire.org
DTSTART;TZID=Europe/Paris:20250912T180000
DTEND;TZID=Europe/Paris:20250912T193000
DTSTAMP:20250909T153104Z
URL:https://www.laptitefabriquesolidaire.org/evenements/le-gombo-un-legume
 -pas-comme-les-autres/
SUMMARY:Cuisine sénégalaise : Le Gombo\, un légume pas comme les autres 
 !
DESCRIPTION:Venez découvrir le Gombo\, ce légume aux multiples bienfaits\
 , typique de l'Afrique de l'Ouest.\n\nSoin pour les cheveux ou encore rem
 ède contre la fatigue\, le Gombo est utilisé depuis des millénaires\, m
 ais il est très méconnu en France.\n\nA travers cet atelier\, Siny vous 
 propose de préparer une salade au Gombo dans la convivialité et la bonne
  humeur.\n\nPrix libre\, sur inscription (6 personnes maximum)\, envoyer u
 n SMS à Annabelle (07 83 93 71 48) pour s'inscrire.\n\nPensez à ramener 
 votre récipient pour repartir avec votre salade.
ATTACH;FMTTYPE=image/jpeg:https://www.laptitefabriquesolidaire.org/wp-cont
 ent/uploads/2025/08/gombo.png
CATEGORIES:Évènement
END:VEVENT
BEGIN:VTIMEZONE
TZID:Europe/Paris
X-LIC-LOCATION:Europe/Paris
BEGIN:DAYLIGHT
DTSTART:20250330T030000
TZOFFSETFROM:+0100
TZOFFSETTO:+0200
TZNAME:CEST
END:DAYLIGHT
END:VTIMEZONE
END:VCALENDAR