BEGIN:VCALENDAR
VERSION:2.0
PRODID:-//wp-events-plugin.com//7.2.3.1//EN
TZID:Europe/Paris
X-WR-TIMEZONE:Europe/Paris
BEGIN:VEVENT
UID:4313@laptitefabriquesolidaire.org
DTSTART;TZID=Europe/Paris:20251010T100000
DTEND;TZID=Europe/Paris:20251010T120000
DTSTAMP:20250904T141111Z
URL:https://www.laptitefabriquesolidaire.org/evenements/halloween-petites-
 creations/
SUMMARY:Halloween - Petites créations
DESCRIPTION:Petites créations et activités sur le thème d’Halloween - 
 Avec Jennifer.\nPour les parents avec leurs enfants de 2 à 8 ans. (Gratui
 t)
ATTACH;FMTTYPE=image/jpeg:https://www.laptitefabriquesolidaire.org/wp-cont
 ent/uploads/2025/09/Screenshot-2025-09-04-at-16-10-23-Skull-King-pour-MO-A
 4.png
END:VEVENT
BEGIN:VTIMEZONE
TZID:Europe/Paris
X-LIC-LOCATION:Europe/Paris
BEGIN:DAYLIGHT
DTSTART:20250330T030000
TZOFFSETFROM:+0100
TZOFFSETTO:+0200
TZNAME:CEST
END:DAYLIGHT
END:VTIMEZONE
END:VCALENDAR