BEGIN:VCALENDAR
VERSION:2.0
PRODID:-//wp-events-plugin.com//7.2.3.1//EN
TZID:Europe/Paris
X-WR-TIMEZONE:Europe/Paris
BEGIN:VEVENT
UID:4311@laptitefabriquesolidaire.org
DTSTART;TZID=Europe/Paris:20251011T100000
DTEND;TZID=Europe/Paris:20251011T180000
DTSTAMP:20250904T135754Z
URL:https://www.laptitefabriquesolidaire.org/evenements/forum-des-familles
 -a-la-halle-huguenot/
SUMMARY:Forum des Familles à la Halle Huguenot
DESCRIPTION:Avec l’Espace Famille de la Communauté de Commune du Pays d
 ’Uzerche\n\nVenez rencontrer les acteurs locaux œuvrant auprès des enf
 ants\, des jeunes et des familles. Conférence de Cédric Rostein « Papat
 riarcat » sur « Les paternités en 2025 » dans la matinée... Programme
  complet à venir !
ATTACH;FMTTYPE=image/jpeg:https://www.laptitefabriquesolidaire.org/wp-cont
 ent/uploads/2025/09/Screenshot-2025-09-04-at-15-57-04-Forum-des-Familles-a
 -la-Halle-Huguenot-at-DuckDuckGo.png
CATEGORIES:Évènement
END:VEVENT
BEGIN:VTIMEZONE
TZID:Europe/Paris
X-LIC-LOCATION:Europe/Paris
BEGIN:DAYLIGHT
DTSTART:20250330T030000
TZOFFSETFROM:+0100
TZOFFSETTO:+0200
TZNAME:CEST
END:DAYLIGHT
END:VTIMEZONE
END:VCALENDAR