BEGIN:VCALENDAR
VERSION:2.0
PRODID:-//wp-events-plugin.com//7.2.3.1//EN
TZID:Europe/Paris
X-WR-TIMEZONE:Europe/Paris
BEGIN:VEVENT
UID:4304@laptitefabriquesolidaire.org
DTSTART;TZID=Europe/Paris:20251007T203000
DTEND;TZID=Europe/Paris:20251007T203000
DTSTAMP:20250904T130255Z
URL:https://www.laptitefabriquesolidaire.org/evenements/film-au-cinema-lou
 is-jouvet-residence-en-resistance/
SUMMARY:Film au Cinéma Louis Jouvet - “Résidence en résistance”
DESCRIPTION:Avec l’association Autour du 1er Mai\, le Cinéma Louis Jouve
 t et Peuple et Culture Corrèze\nDans le cadre du Festival “Joyeuses Ré
 sistances” : Projection du Film “Résidence en résistance” - Jérô
 me Polidor\, 2024\, France\, 81 min\, documentaire.
ATTACH;FMTTYPE=image/jpeg:https://www.laptitefabriquesolidaire.org/wp-cont
 ent/uploads/2025/09/Screenshot-2025-09-04-at-15-01-54-Residence-en-resista
 nce-at-DuckDuckGo.png
CATEGORIES:Évènement
END:VEVENT
BEGIN:VTIMEZONE
TZID:Europe/Paris
X-LIC-LOCATION:Europe/Paris
BEGIN:DAYLIGHT
DTSTART:20250330T030000
TZOFFSETFROM:+0100
TZOFFSETTO:+0200
TZNAME:CEST
END:DAYLIGHT
END:VTIMEZONE
END:VCALENDAR