BEGIN:VCALENDAR
VERSION:2.0
PRODID:-//wp-events-plugin.com//7.2.3.1//EN
TZID:Europe/Paris
X-WR-TIMEZONE:Europe/Paris
BEGIN:VEVENT
UID:2846@laptitefabriquesolidaire.org
DTSTART;TZID=Europe/Paris:20240630T180000
DTEND;TZID=Europe/Paris:20240630T200000
DTSTAMP:20240613T150602Z
URL:https://www.laptitefabriquesolidaire.org/evenements/fanfare-funfart-2-
 2024-06-30/
SUMMARY:Fanfare : Funfart
DESCRIPTION:Fanfare electro funk acoustique\, jubilatoire et bientôt déam
 bulatoire ! avec Franck : 06 72 74 62 05 – franck.cabande@protonmail.com
ATTACH;FMTTYPE=image/jpeg:https://www.laptitefabriquesolidaire.org/wp-cont
 ent/uploads/2023/10/fanfare.png
CATEGORIES:Article
END:VEVENT
BEGIN:VTIMEZONE
TZID:Europe/Paris
X-LIC-LOCATION:Europe/Paris
BEGIN:DAYLIGHT
DTSTART:20240331T030000
TZOFFSETFROM:+0100
TZOFFSETTO:+0200
TZNAME:CEST
END:DAYLIGHT
END:VTIMEZONE
END:VCALENDAR