BEGIN:VCALENDAR
VERSION:2.0
PRODID:-//wp-events-plugin.com//7.2.3.1//EN
TZID:Europe/Paris
X-WR-TIMEZONE:Europe/Paris
BEGIN:VEVENT
UID:1799@laptitefabriquesolidaire.org
DTSTART;TZID=Europe/Paris:20230101T181500
DTEND;TZID=Europe/Paris:20230228T200000
DTSTAMP:20221215T145551Z
URL:https://www.laptitefabriquesolidaire.org/event-recurring/ecrire-en-ate
 lier-3/
SUMMARY:Écrire en atelier
DESCRIPTION:Écrire en atelier\, c'est défricher des terres vierges\, fair
 e l'école buissonnière... et dans le sillon des mots\, passer la greline
 tte au creux de sa terre intérieure\, au soleil et sous la pluie y semer 
 des graines. Écrire en atelier\, c'est accueillir les mots\, jeunes ou vi
 eux\, endormis ou rêvés.\nChaque écriture a son itinéraire singulier."
 \nGarante d'une écoute bienveillante\, je tire de son sac tout un jeu de 
 propositions\, inspirées d'auteur.e.s et d'artistes de tous les continent
 s. Ainsi naissent sous votre plume des fragments\, une ébauche de Nouvell
 e\, des poésies furtives\, des Haïkus\, une Autolouange...\ntoutes les 2
  semaines\, le 2\, 16 et 30 novembre et le 14 décembre.\n\nOdile Pommier\
 , 06.72.15.92.87\n\nDU Marseille "animatrice-formatrice Atelier Écriture"
 \, formée à l'Autolouange avec Marie MILIS\n\nPrix libre
END:VEVENT
BEGIN:VTIMEZONE
TZID:Europe/Paris
X-LIC-LOCATION:Europe/Paris
BEGIN:STANDARD
DTSTART:20221030T020000
TZOFFSETFROM:+0200
TZOFFSETTO:+0100
TZNAME:CET
END:STANDARD
END:VTIMEZONE
END:VCALENDAR