BEGIN:VCALENDAR
VERSION:2.0
PRODID:-//wp-events-plugin.com//7.2.3.1//EN
TZID:Europe/Paris
X-WR-TIMEZONE:Europe/Paris
BEGIN:VEVENT
UID:4412@laptitefabriquesolidaire.org
DTSTART;TZID=Europe/Paris:20251001T183000
DTEND;TZID=Europe/Paris:20251001T203000
DTSTAMP:20250904T150103Z
URL:https://www.laptitefabriquesolidaire.org/evenements/ecrire-en-atelier-
 2/
SUMMARY:Ecrire en atelier
DESCRIPTION:Écrire en atelier\, c'est défricher des terres vierges\, fair
 e l'école buissonnière... et dans le sillon des mots\, passer la greline
 tte au creux de sa terre intérieure\, au soleil et sous la pluie y semer 
 des graines. Écrire en atelier\, c'est accueillir les mots\, jeunes ou vi
 eux\, endormis ou rêvés.\nChaque écriture a son itinéraire singulier.\
 nGarante d'une écoute bienveillante\, je tire de mon sac tout un jeu de p
 ropositions\, inspirées d'auteur.e.s et d'artistes de tous les continents
 . Ainsi naissent sous votre plume des fragments\, une ébauche de nouvelle
 \, des poésies furtives\, des haïkus\, une autolouange...\n\navec Odile 
 : 06.72.15.92.87\n\n20€ ou 16€ pour 10
ATTACH;FMTTYPE=image/jpeg:https://www.laptitefabriquesolidaire.org/wp-cont
 ent/uploads/2023/04/ecriture.jpg
END:VEVENT
BEGIN:VTIMEZONE
TZID:Europe/Paris
X-LIC-LOCATION:Europe/Paris
BEGIN:DAYLIGHT
DTSTART:20250330T030000
TZOFFSETFROM:+0100
TZOFFSETTO:+0200
TZNAME:CEST
END:DAYLIGHT
END:VTIMEZONE
END:VCALENDAR