BEGIN:VCALENDAR
VERSION:2.0
PRODID:-//wp-events-plugin.com//7.2.3.1//EN
TZID:Europe/Paris
X-WR-TIMEZONE:Europe/Paris
BEGIN:VEVENT
UID:4310@laptitefabriquesolidaire.org
DTSTART;TZID=Europe/Paris:20251031T180000
DTEND;TZID=Europe/Paris:20251031T234500
DTSTAMP:20250904T134119Z
URL:https://www.laptitefabriquesolidaire.org/evenements/dj-set-halloween-c
 arlo-co-%f0%9f%95%b7%ef%b8%8f%f0%9f%8e%83%f0%9f%91%bb%f0%9f%8c%95/
SUMMARY:DJ Set Halloween - Carlo & co 🕷️🎃👻🌕
DESCRIPTION:18h-20h : Dance floor adapté pour les enfants\n20h-1h : Dance 
 floor pour les grands !\nRendez-vous à la PFS avec votre plus beau dégui
 sement si possible !
ATTACH;FMTTYPE=image/jpeg:https://www.laptitefabriquesolidaire.org/wp-cont
 ent/uploads/2025/09/Screenshot-2025-09-04-at-15-36-32-Skull-King-pour-MO-A
 4.png
CATEGORIES:Évènement
END:VEVENT
BEGIN:VTIMEZONE
TZID:Europe/Paris
X-LIC-LOCATION:Europe/Paris
BEGIN:STANDARD
DTSTART:20251026T020000
TZOFFSETFROM:+0200
TZOFFSETTO:+0100
TZNAME:CET
END:STANDARD
END:VTIMEZONE
END:VCALENDAR