BEGIN:VCALENDAR
VERSION:2.0
PRODID:-//wp-events-plugin.com//7.2.3.1//EN
TZID:Europe/Paris
X-WR-TIMEZONE:Europe/Paris
BEGIN:VEVENT
UID:3958@laptitefabriquesolidaire.org
DTSTART;TZID=Europe/Paris:20250607T160000
DTEND;TZID=Europe/Paris:20250607T190000
DTSTAMP:20250429T172429Z
URL:https://www.laptitefabriquesolidaire.org/evenements/disco-menage-de-pr
 intemps/
SUMMARY:Disco-ménage de printemps
DESCRIPTION:Sortez votre plus beau plumeau et venez donner un coup de propr
 e à la PFS\, en toute détente et en musique ! La journée s'achèvera le
  soir avec le concert de Mantis.
ATTACH;FMTTYPE=image/jpeg:https://www.laptitefabriquesolidaire.org/wp-cont
 ent/uploads/2025/04/Screenshot-2025-04-29-at-19-24-06-79154.HR_.jpg-WEBP-I
 mage-1024-×-683-pixels-—-Scaled-75.png
CATEGORIES:Évènement
END:VEVENT
BEGIN:VTIMEZONE
TZID:Europe/Paris
X-LIC-LOCATION:Europe/Paris
BEGIN:DAYLIGHT
DTSTART:20250330T030000
TZOFFSETFROM:+0100
TZOFFSETTO:+0200
TZNAME:CEST
END:DAYLIGHT
END:VTIMEZONE
END:VCALENDAR