BEGIN:VCALENDAR
VERSION:2.0
PRODID:-//wp-events-plugin.com//7.2.3.1//EN
TZID:Europe/Paris
X-WR-TIMEZONE:Europe/Paris
BEGIN:VEVENT
UID:4812@laptitefabriquesolidaire.org
DTSTART;TZID=Europe/Paris:20251212T180000
DTEND;TZID=Europe/Paris:20251212T200000
DTSTAMP:20251017T172220Z
URL:https://www.laptitefabriquesolidaire.org/evenements/decouverte-du-hath
 a-yoga-selon-lenseignement-de-shri-mahesh-2/
SUMMARY:Découverte du Hatha Yoga selon l’enseignement de Shri Mahesh
DESCRIPTION:Venez (re)découvrir le Hatha Yoga traditionnel  selon l’ense
 ignement de Shri Mahesh : atelier avec échange et apport théorique (phil
 osophie et culture indienne) suivi d’une pratique.\n\nRenseignements et 
 inscriptions : Marielle à semerdesailes@gmail.com 06 41 82 71 31
ATTACH;FMTTYPE=image/jpeg:https://www.laptitefabriquesolidaire.org/wp-cont
 ent/uploads/2025/10/logo-entier-pdf.jpg
END:VEVENT
BEGIN:VTIMEZONE
TZID:Europe/Paris
X-LIC-LOCATION:Europe/Paris
BEGIN:STANDARD
DTSTART:20251026T020000
TZOFFSETFROM:+0200
TZOFFSETTO:+0100
TZNAME:CET
END:STANDARD
END:VTIMEZONE
END:VCALENDAR