BEGIN:VCALENDAR
VERSION:2.0
PRODID:-//wp-events-plugin.com//7.2.3.1//EN
TZID:Europe/Paris
X-WR-TIMEZONE:Europe/Paris
BEGIN:VEVENT
UID:4817@laptitefabriquesolidaire.org
DTSTART;TZID=Europe/Paris:20251213T110000
DTEND;TZID=Europe/Paris:20251213T123000
DTSTAMP:20251017T173608Z
URL:https://www.laptitefabriquesolidaire.org/evenements/decouverte-de-prod
 uits-africains-le-moringa/
SUMMARY:Découverte de Produits Africains - Le Moringa
DESCRIPTION:Le Moringa est une plante riche en vitamines  et minéraux. No
 us allons voir comment le faire en tisane ou en boisson. Pour cela Siny vo
 us dévoilera les secrets  de cette plante méconnue en occident mais tr
 ès utilisée en Afrique de l'ouest.\nSur inscription par SMS au 07.83.93.
 71.48 (Annabelle)
ATTACH;FMTTYPE=image/jpeg:https://www.laptitefabriquesolidaire.org/wp-cont
 ent/uploads/2025/10/product-jpeg-500x500-1.webp
CATEGORIES:Évènement
END:VEVENT
BEGIN:VTIMEZONE
TZID:Europe/Paris
X-LIC-LOCATION:Europe/Paris
BEGIN:STANDARD
DTSTART:20251026T020000
TZOFFSETFROM:+0200
TZOFFSETTO:+0100
TZNAME:CET
END:STANDARD
END:VTIMEZONE
END:VCALENDAR