BEGIN:VCALENDAR
VERSION:2.0
PRODID:-//wp-events-plugin.com//7.2.3.1//EN
TZID:Europe/Paris
X-WR-TIMEZONE:Europe/Paris
BEGIN:VEVENT
UID:4309@laptitefabriquesolidaire.org
DTSTART;TZID=Europe/Paris:20251022T140000
DTEND;TZID=Europe/Paris:20251022T170000
DTSTAMP:20250909T141037Z
URL:https://www.laptitefabriquesolidaire.org/evenements/decouverte-de-prod
 uits-africains-le-mbourake/
SUMMARY:Cuisine sénégalaise - le Mbouraké\, un dessert anti-gaspi
DESCRIPTION:Atelier Goûter\, le Mbouraké\, une recette anti gaspi : Venez
  préparer un goûter simple et convivial à base de pain rassi ! - Avec S
 iny.\nRamenez un récipient pour partir avec votre dessert. Prix libre\, s
 ur inscription par SMS au 07.83.93.71.48 (Annabelle)
ATTACH;FMTTYPE=image/jpeg:https://www.laptitefabriquesolidaire.org/wp-cont
 ent/uploads/2025/09/Screenshot-2025-09-04-at-15-27-55-Skull-King-pour-MO-A
 4.png
CATEGORIES:Évènement
END:VEVENT
BEGIN:VTIMEZONE
TZID:Europe/Paris
X-LIC-LOCATION:Europe/Paris
BEGIN:DAYLIGHT
DTSTART:20250330T030000
TZOFFSETFROM:+0100
TZOFFSETTO:+0200
TZNAME:CEST
END:DAYLIGHT
END:VTIMEZONE
END:VCALENDAR