BEGIN:VCALENDAR
VERSION:2.0
PRODID:-//wp-events-plugin.com//7.2.3.1//EN
TZID:Europe/Paris
X-WR-TIMEZONE:Europe/Paris
BEGIN:VEVENT
UID:4816@laptitefabriquesolidaire.org
DTSTART;TZID=Europe/Paris:20251115T150000
DTEND;TZID=Europe/Paris:20251115T163000
DTSTAMP:20251017T173306Z
URL:https://www.laptitefabriquesolidaire.org/evenements/decouverte-de-prod
 uits-africains-le-manioc/
SUMMARY:Découverte de Produits Africains - Le Manioc
DESCRIPTION:Venez apprendre à cuisiner le manioc sous différentes formes 
 ! - Avec Siny.\nSur inscription par SMS au 07.83.93.71.48 (Annabelle)\n\nL
 e Manioc est un gros tubercule  utilisé  dans la cuisine traditionnelle
   africaine comme la pomme de terre  elle se cuisine  de différentes 
  manières en sauté à  la vapeur et en purée.
ATTACH;FMTTYPE=image/jpeg:https://www.laptitefabriquesolidaire.org/wp-cont
 ent/uploads/2025/10/istockphoto-1265038000-612x612-1.jpg
CATEGORIES:Évènement
END:VEVENT
BEGIN:VTIMEZONE
TZID:Europe/Paris
X-LIC-LOCATION:Europe/Paris
BEGIN:STANDARD
DTSTART:20251026T020000
TZOFFSETFROM:+0200
TZOFFSETTO:+0100
TZNAME:CET
END:STANDARD
END:VTIMEZONE
END:VCALENDAR