BEGIN:VCALENDAR
VERSION:2.0
PRODID:-//wp-events-plugin.com//7.2.3.1//EN
TZID:Europe/Paris
X-WR-TIMEZONE:Europe/Paris
BEGIN:VEVENT
UID:4503@laptitefabriquesolidaire.org
DTSTART;TZID=Europe/Paris:20260418T150000
DTEND;TZID=Europe/Paris:20260418T170000
DTSTAMP:20250904T154020Z
URL:https://www.laptitefabriquesolidaire.org/evenements/couture-de-vetemen
 ts-2025-09-06-2025-09-20-2025-10-04-2025-10-18-2025-11-01-2025-11-15-2025-
 11-29-2025-12-13-2025-12-27-2026-01-10-2026-01-24-2026-02-07-2026-02-21-20
 26-03-07-2026-03-21-04-2026-04-18/
SUMMARY:Couture de vêtements
DESCRIPTION:avec Bukurije\, semaines paires\, salle 3 du Lycée de garçons
  ( gratuit)
ATTACH;FMTTYPE=image/jpeg:https://www.laptitefabriquesolidaire.org/wp-cont
 ent/uploads/2022/02/Atelier-couture.jpg
END:VEVENT
BEGIN:VTIMEZONE
TZID:Europe/Paris
X-LIC-LOCATION:Europe/Paris
BEGIN:DAYLIGHT
DTSTART:20260329T030000
TZOFFSETFROM:+0100
TZOFFSETTO:+0200
TZNAME:CEST
END:DAYLIGHT
END:VTIMEZONE
END:VCALENDAR