BEGIN:VCALENDAR
VERSION:2.0
PRODID:-//wp-events-plugin.com//7.2.3.1//EN
TZID:Europe/Paris
X-WR-TIMEZONE:Europe/Paris
BEGIN:VEVENT
UID:4827@laptitefabriquesolidaire.org
DTSTART;TZID=Europe/Paris:20260129T100000
DTEND;TZID=Europe/Paris:20260228T120000
DTSTAMP:20260122T102152Z
URL:https://www.laptitefabriquesolidaire.org/evenements/cours-de-piano/
SUMMARY:Cours de Piano
DESCRIPTION:\n\n\nTous les jeudis et samedis des semaines impaires !\nles j
 eudis de 10h à 12h\nles samedis de 9h à 12h\n(Gratuit sur réservation)\
 n\nAvec Jean-Marc\, contactez le :\n\n06 18 02 80 37\nechanges@petit-tout.
 fr\n\nOu bien réservez un créneau sur le site https://petit-tout.fr\n\nC
 alendrier :\n29 et 31 janvier\n12\, 14\, 26 et 28 février\n\n\n
ATTACH;FMTTYPE=image/jpeg:https://www.laptitefabriquesolidaire.org/wp-cont
 ent/uploads/2026/01/s.webp
END:VEVENT
BEGIN:VTIMEZONE
TZID:Europe/Paris
X-LIC-LOCATION:Europe/Paris
BEGIN:STANDARD
DTSTART:20251026T020000
TZOFFSETFROM:+0200
TZOFFSETTO:+0100
TZNAME:CET
END:STANDARD
END:VTIMEZONE
END:VCALENDAR