BEGIN:VCALENDAR
VERSION:2.0
PRODID:-//wp-events-plugin.com//7.2.3.1//EN
TZID:Europe/Paris
X-WR-TIMEZONE:Europe/Paris
BEGIN:VEVENT
UID:4819@laptitefabriquesolidaire.org
DTSTART;TZID=Europe/Paris:20251122T200000
DTEND;TZID=Europe/Paris:20251122T230000
DTSTAMP:20251017T174507Z
URL:https://www.laptitefabriquesolidaire.org/evenements/concert-soiree-sce
 ne-locale-molly-maguire-superfeuille/
SUMMARY:CONCERT Soirée scène locale : Molly Maguire / Superfeuille
DESCRIPTION:SUPER FEUILLE : Super blues végétal. Super Feuille est un org
 ane\, siège de la respiration et de la transpiration. Stéphane Frideloux
  et Emmanuel Roux improvisent\, à travers un herbier sonore\, le monde de
 s fibres\, des nervures et des pulsations. \n\nMOLLY MAGUIRE : La french t
 ouch corrézienne s'envoie le folklore irlandais avec un chœur à trois v
 oix résonnant au son des guitares. Trio de fond de bistrot\, Molly Maguir
 e brode sur des chansons à boire et à vous envoyer droit en prison. Qui 
 dit que l'herbe est plus verte ailleurs ? C'est Molly Maguire. \n\nBuvette
  &amp\; Restauration sur place\n\nParticipation libre
ATTACH;FMTTYPE=image/jpeg:https://www.laptitefabriquesolidaire.org/wp-cont
 ent/uploads/2025/10/1569651-943440524-scaled.jpg
CATEGORIES:Évènement
END:VEVENT
BEGIN:VTIMEZONE
TZID:Europe/Paris
X-LIC-LOCATION:Europe/Paris
BEGIN:STANDARD
DTSTART:20251026T020000
TZOFFSETFROM:+0200
TZOFFSETTO:+0100
TZNAME:CET
END:STANDARD
END:VTIMEZONE
END:VCALENDAR