BEGIN:VCALENDAR
VERSION:2.0
PRODID:-//wp-events-plugin.com//7.2.3.1//EN
TZID:Europe/Paris
X-WR-TIMEZONE:Europe/Paris
BEGIN:VEVENT
UID:4308@laptitefabriquesolidaire.org
DTSTART;TZID=Europe/Paris:20251018T190000
DTEND;TZID=Europe/Paris:20251018T190000
DTSTAMP:20250904T132521Z
URL:https://www.laptitefabriquesolidaire.org/evenements/concert-heavenphet
 amine/
SUMMARY:Concert Heavenphetamine
DESCRIPTION:Entre le Japon et la Géorgie\, ce duo japonais allie psychedel
 ic\, post punk et acid house made in Tokyo.
ATTACH;FMTTYPE=image/jpeg:https://www.laptitefabriquesolidaire.org/wp-cont
 ent/uploads/2025/09/Screenshot-2025-09-04-at-15-24-44-heavenphetamine-at-D
 uckDuckGo.png
CATEGORIES:Évènement
END:VEVENT
BEGIN:VTIMEZONE
TZID:Europe/Paris
X-LIC-LOCATION:Europe/Paris
BEGIN:DAYLIGHT
DTSTART:20250330T030000
TZOFFSETFROM:+0100
TZOFFSETTO:+0200
TZNAME:CEST
END:DAYLIGHT
END:VTIMEZONE
END:VCALENDAR