BEGIN:VCALENDAR
VERSION:2.0
PRODID:-//wp-events-plugin.com//7.2.3.1//EN
TZID:Europe/Paris
X-WR-TIMEZONE:Europe/Paris
BEGIN:VEVENT
UID:4807@laptitefabriquesolidaire.org
DTSTART;TZID=Europe/Paris:20251204T093000
DTEND;TZID=Europe/Paris:20251204T123000
DTSTAMP:20251017T171416Z
URL:https://www.laptitefabriquesolidaire.org/evenements/communication-non-
 violente-15/
SUMMARY:Communication Non Violente
DESCRIPTION:avec Marie Adinarayanin : shiatsudoin19@gmail.com (25€)
ATTACH;FMTTYPE=image/jpeg:https://www.laptitefabriquesolidaire.org/wp-cont
 ent/uploads/2019/08/cry-62326_1920.jpg
CATEGORIES:Article
END:VEVENT
BEGIN:VTIMEZONE
TZID:Europe/Paris
X-LIC-LOCATION:Europe/Paris
BEGIN:STANDARD
DTSTART:20251026T020000
TZOFFSETFROM:+0200
TZOFFSETTO:+0100
TZNAME:CET
END:STANDARD
END:VTIMEZONE
END:VCALENDAR