BEGIN:VCALENDAR
VERSION:2.0
PRODID:-//wp-events-plugin.com//7.2.3.1//EN
TZID:Europe/Paris
X-WR-TIMEZONE:Europe/Paris
BEGIN:VEVENT
UID:4471@laptitefabriquesolidaire.org
DTSTART;TZID=Europe/Paris:20250911T190000
DTEND;TZID=Europe/Paris:20250911T200000
DTSTAMP:20250904T151143Z
URL:https://www.laptitefabriquesolidaire.org/evenements/cmu-chorale-milita
 nte-duzerche-2025-09-11/
SUMMARY:Chorale - CMU
DESCRIPTION:Pour se faire entendre &amp\; pour le plaisir de chanter ensemb
 le\, la chorale répète tous les jeudis.\n\nC'est chouette\, on s'amuse e
 t on chante avec joie et bonne humeur :)\n\nAvec Antoine
ATTACH;FMTTYPE=image/jpeg:https://www.laptitefabriquesolidaire.org/wp-cont
 ent/uploads/2019/01/Screenshot-2025-09-04-at-17-10-49-chorale-fun-at-DuckD
 uckGo.png
END:VEVENT
BEGIN:VTIMEZONE
TZID:Europe/Paris
X-LIC-LOCATION:Europe/Paris
BEGIN:DAYLIGHT
DTSTART:20250330T030000
TZOFFSETFROM:+0100
TZOFFSETTO:+0200
TZNAME:CEST
END:DAYLIGHT
END:VTIMEZONE
END:VCALENDAR