BEGIN:VCALENDAR
VERSION:2.0
PRODID:-//wp-events-plugin.com//7.2.3.1//EN
TZID:Europe/Paris
X-WR-TIMEZONE:Europe/Paris
BEGIN:VEVENT
UID:4302@laptitefabriquesolidaire.org
DTSTART;TZID=Europe/Paris:20250913T133000
DTEND;TZID=Europe/Paris:20250913T173000
DTSTAMP:20250904T125757Z
URL:https://www.laptitefabriquesolidaire.org/evenements/cafe-autoreparatio
 n-a-la-minoterie/
SUMMARY:Café Autoréparation à la Minoterie
DESCRIPTION:Avec Medication Time et Aux Pas Perdus pendant la Fête des Ass
 ociations organisée avec la Mairie d’Uzerche\nVenez apprendre à répar
 er vos objets\, ordinateurs\, vélos et vêtements avec nos bénévoles. P
 rofitez-en pour découvrir les associations d’Uzerche !\n\nRendez-vous 
 à la Minoterie à Uzerche à partir de 13h30 !
ATTACH;FMTTYPE=image/jpeg:https://www.laptitefabriquesolidaire.org/wp-cont
 ent/uploads/2025/09/Screenshot-2025-09-04-at-14-55-28-cafe-autoreparation-
 uzerche-at-DuckDuckGo.png
CATEGORIES:Évènement
END:VEVENT
BEGIN:VTIMEZONE
TZID:Europe/Paris
X-LIC-LOCATION:Europe/Paris
BEGIN:DAYLIGHT
DTSTART:20250330T030000
TZOFFSETFROM:+0100
TZOFFSETTO:+0200
TZNAME:CEST
END:DAYLIGHT
END:VTIMEZONE
END:VCALENDAR