BEGIN:VCALENDAR
VERSION:2.0
PRODID:-//wp-events-plugin.com//7.2.3.1//EN
TZID:Europe/Paris
X-WR-TIMEZONE:Europe/Paris
BEGIN:VEVENT
UID:4813@laptitefabriquesolidaire.org
DTSTART;TZID=Europe/Paris:20251206T100000
DTEND;TZID=Europe/Paris:20251206T170000
DTSTAMP:20251126T164436Z
URL:https://www.laptitefabriquesolidaire.org/evenements/cafe-auto-reparati
 on/
SUMMARY:Café Auto-réparation
DESCRIPTION:Venez apprendre à réparer vos objets ! à l'Entre-Deux (Espac
 e Jeunes) - 5 allée de la Papeterie\n\navec la Ressourcerie Aux pas perdu
 s et Medication Time
ATTACH;FMTTYPE=image/jpeg:https://www.laptitefabriquesolidaire.org/wp-cont
 ent/uploads/2025/10/Affiche-Cafe-Autoreparation-6-decembre-2025_20251125_1
 60823_0000.png
CATEGORIES:Évènement
END:VEVENT
BEGIN:VTIMEZONE
TZID:Europe/Paris
X-LIC-LOCATION:Europe/Paris
BEGIN:STANDARD
DTSTART:20251026T020000
TZOFFSETFROM:+0200
TZOFFSETTO:+0100
TZNAME:CET
END:STANDARD
END:VTIMEZONE
END:VCALENDAR