BEGIN:VCALENDAR
VERSION:2.0
PRODID:-//wp-events-plugin.com//7.2.3.1//EN
TZID:Europe/Paris
X-WR-TIMEZONE:Europe/Paris
BEGIN:VEVENT
UID:4314@laptitefabriquesolidaire.org
DTSTART;TZID=Europe/Paris:20260325T100000
DTEND;TZID=Europe/Paris:20260325T120000
DTSTAMP:20260226T153747Z
URL:https://www.laptitefabriquesolidaire.org/evenements/cafe-allaitement/
SUMMARY:Café Allaitement
DESCRIPTION:Rencontre et discussion pour les (futurs) parents allaitants et
  coparents - Avec Jennifer.\n\n(Gratuit)
ATTACH;FMTTYPE=image/jpeg:https://www.laptitefabriquesolidaire.org/wp-cont
 ent/uploads/2025/09/Screenshot-2025-09-04-at-16-12-46-Skull-King-pour-MO-A
 4.png
END:VEVENT
BEGIN:VTIMEZONE
TZID:Europe/Paris
X-LIC-LOCATION:Europe/Paris
BEGIN:STANDARD
DTSTART:20251026T020000
TZOFFSETFROM:+0200
TZOFFSETTO:+0100
TZNAME:CET
END:STANDARD
END:VTIMEZONE
END:VCALENDAR