BEGIN:VCALENDAR
VERSION:2.0
PRODID:-//wp-events-plugin.com//7.2.3.1//EN
TZID:Europe/Paris
X-WR-TIMEZONE:Europe/Paris
BEGIN:VEVENT
UID:4126@laptitefabriquesolidaire.org
DTSTART;TZID=Europe/Paris:20250210T193000
DTEND;TZID=Europe/Paris:20250210T210000
DTSTAMP:20250826T152049Z
URL:https://www.laptitefabriquesolidaire.org/evenements/biodanza-3-2024-09
 -09-2024-09-16-2024-09-23-2024-09-30-2024-10-07-2024-10-14-2024-10-21-2024
 -10-28-2024-11-04-2024-11-11-2024-11-18-2024-11-25-2024-12-02-2024-12-09-2
 024-12-16-2024-12-23-03-2025-02-10/
SUMMARY:Biodanza
DESCRIPTION:avec Monique : 06 18 55 48 19\, salle polyvalente (sauf les 08/
 09)
ATTACH;FMTTYPE=image/jpeg:https://www.laptitefabriquesolidaire.org/wp-cont
 ent/uploads/2023/05/ronde.jpg
END:VEVENT
BEGIN:VTIMEZONE
TZID:Europe/Paris
X-LIC-LOCATION:Europe/Paris
BEGIN:STANDARD
DTSTART:20241027T020000
TZOFFSETFROM:+0200
TZOFFSETTO:+0100
TZNAME:CET
END:STANDARD
END:VTIMEZONE
END:VCALENDAR