BEGIN:VCALENDAR
VERSION:2.0
PRODID:-//wp-events-plugin.com//7.2.3.1//EN
TZID:Europe/Paris
X-WR-TIMEZONE:Europe/Paris
BEGIN:VEVENT
UID:4818@laptitefabriquesolidaire.org
DTSTART;TZID=Europe/Paris:20251213T140000
DTEND;TZID=Europe/Paris:20251213T160000
DTSTAMP:20251017T174108Z
URL:https://www.laptitefabriquesolidaire.org/evenements/atelier-vinaigre-a
 romatise-et-lequilibre-acido-basique-de-lorganisme/
SUMMARY:Atelier Vinaigre aromatisé et l’équilibre acido-basique de l’
 organisme
DESCRIPTION:ATELIER NATUROPATHIE\nPar Marine Séjourné\nNaturopathe\n\nL
 ’organisme a besoin de maintenir ce que l’on appelle l’équilibre ac
 ido-basique\, soit le bon pH dans l’ensemble des composants de notre cor
 ps (cellules\, fluides\, organes…). C’est cet équilibre qui nous main
 tient en bonne santé. Or\, nos modes de vie\, notre alimentation\, le str
 ess…etc déséquilibrent souvent ce pH et acidifient notre organisme.\nA
  l’occasion de cet atelier nous allons chercher à comprendre ce qu’es
 t l’équilibre acido-basique\, ce qui peut le perturber\, et de quelle m
 anière. Nous verrons que réussir à changer\, même très légèrement\,
  nos habitudes\, aide notre corps à maintenir l’équilibre.\nEnfin\, no
 us découvrirons les vertus des vinaigres aromatisés tant pour la cuisine
  que pour la santé de notre corps\, de notre peau ou de nos cheveux.\nNou
 s fabriquerons nos propres vinaigres aromatisés de plantes médicinales\,
  et chacun·e repartira avec le vinaigre qu’il/elle aura préparé (25cl
 ).\nJe fournis le vinaigre bio\, l’ensemble des fleurs aromatiques et m
 édicinales nécessaires à la fabrication\, ainsi que les conserves avec 
 lesquelles chacun·e repartira. Les participant·es peuvent ramener leur p
 ropres conserves s’ils/elles le souhaitent.\n\nSi vous le pouvez\, appor
 tez un bocal de 25cL\n\nVinaigre et plantes fournis (prix libre)
ATTACH;FMTTYPE=image/jpeg:https://www.laptitefabriquesolidaire.org/wp-cont
 ent/uploads/2025/10/vinaigre-herbes-aromatiques-aromates-3277028213.jpeg
CATEGORIES:Évènement
END:VEVENT
BEGIN:VTIMEZONE
TZID:Europe/Paris
X-LIC-LOCATION:Europe/Paris
BEGIN:STANDARD
DTSTART:20251026T020000
TZOFFSETFROM:+0200
TZOFFSETTO:+0100
TZNAME:CET
END:STANDARD
END:VTIMEZONE
END:VCALENDAR