BEGIN:VCALENDAR
VERSION:2.0
PRODID:-//wp-events-plugin.com//7.2.3.1//EN
TZID:Europe/Paris
X-WR-TIMEZONE:Europe/Paris
BEGIN:VEVENT
UID:4672@laptitefabriquesolidaire.org
DTSTART;TZID=Europe/Paris:20251126T180000
DTEND;TZID=Europe/Paris:20251126T210000
DTSTAMP:20251119T111840Z
URL:https://www.laptitefabriquesolidaire.org/evenements/atelier-ecriture-c
 reative/
SUMMARY:Atelier Écriture Créative
DESCRIPTION:Avec Odile.\n\nThème pour cette fin d'année : "Du grain à Mo
 udre"\n\n30€ par personne - 25€ par personne si couple ou ami.e.s
ATTACH;FMTTYPE=image/jpeg:https://www.laptitefabriquesolidaire.org/wp-cont
 ent/uploads/2025/10/main-tenant-un-stylo-a-plumes-d-oiseau-pour-l-ecriture
 -ou-le-dessin-noir-sur-fond-blanc-male-plume-ecrire-dessiner-258612593-728
 997183.jpg
END:VEVENT
BEGIN:VTIMEZONE
TZID:Europe/Paris
X-LIC-LOCATION:Europe/Paris
BEGIN:STANDARD
DTSTART:20251026T020000
TZOFFSETFROM:+0200
TZOFFSETTO:+0100
TZNAME:CET
END:STANDARD
END:VTIMEZONE
END:VCALENDAR