BEGIN:VCALENDAR
VERSION:2.0
PRODID:-//wp-events-plugin.com//7.2.3.1//EN
TZID:Europe/Paris
X-WR-TIMEZONE:Europe/Paris
BEGIN:VEVENT
UID:5244@laptitefabriquesolidaire.org
DTSTART;TZID=Europe/Paris:20260415T143000
DTEND;TZID=Europe/Paris:20260415T163000
DTSTAMP:20260305T143652Z
URL:https://www.laptitefabriquesolidaire.org/evenements/atelier-creatif-pa
 rents-enfants-residents-du-foyer-de-vie-paques-et-chasse-aux-tresors/
SUMMARY:Chasse aux Trésors de Pâques avec Parents\, Enfants et Résidents
  du Foyer de Vie de Vigeois
DESCRIPTION:Venez faire la chasse aux trésors dans la Châtaigneraie du Fo
 yer de Vie de Vigeois et prendre le goûter entre parents\, enfants et ré
 sidents du Foyer de Vie (accompagnés de leurs éducateurs)\n\nPour partic
 iper vous pouvez appeler Jennifer au 0620018146 ou vous inscrire sur le ta
 bleau mis à votre disposition au café\n\nAu Foyer de Vie de Vigeois\, av
 ec Jennifer
ATTACH;FMTTYPE=image/jpeg:https://www.laptitefabriquesolidaire.org/wp-cont
 ent/uploads/2026/03/Affiche-chasse-aux-oeufs-Paques-illustration-colore-pd
 f.jpg
END:VEVENT
BEGIN:VTIMEZONE
TZID:Europe/Paris
X-LIC-LOCATION:Europe/Paris
BEGIN:DAYLIGHT
DTSTART:20260329T030000
TZOFFSETFROM:+0100
TZOFFSETTO:+0200
TZNAME:CEST
END:DAYLIGHT
END:VTIMEZONE
END:VCALENDAR