BEGIN:VCALENDAR
VERSION:2.0
PRODID:-//wp-events-plugin.com//7.2.3.1//EN
TZID:Europe/Paris
X-WR-TIMEZONE:Europe/Paris
BEGIN:VEVENT
UID:5246@laptitefabriquesolidaire.org
DTSTART;TZID=Europe/Paris:20260401T143000
DTEND;TZID=Europe/Paris:20260401T163000
DTSTAMP:20260305T143916Z
URL:https://www.laptitefabriquesolidaire.org/evenements/atelier-creatif-pa
 rents-enfants-residents-du-foyer-de-vie-paques-et-chasse-aux-tresors-3/
SUMMARY:Atelier Créatif Parents/Enfants/Résidents du Foyer de Vie: Pâque
 s et Chasse aux Trésors
DESCRIPTION:Venez prendre le goûter entre parents\, enfants et résidents 
 du Foyer de Vie (accompagnés de leurs éducateurs) pour fabriquer des acc
 essoires pour Pâques et préparer la chasse aux trésors du 15 avril\n\na
 u Foyer de Vie de Vigeois\, Avec Jennifer
ATTACH;FMTTYPE=image/jpeg:https://www.laptitefabriquesolidaire.org/wp-cont
 ent/uploads/2026/02/paque.jpg
END:VEVENT
BEGIN:VTIMEZONE
TZID:Europe/Paris
X-LIC-LOCATION:Europe/Paris
BEGIN:DAYLIGHT
DTSTART:20260329T030000
TZOFFSETFROM:+0100
TZOFFSETTO:+0200
TZNAME:CEST
END:DAYLIGHT
END:VTIMEZONE
END:VCALENDAR