BEGIN:VCALENDAR
VERSION:2.0
PRODID:-//wp-events-plugin.com//7.2.3.1//EN
TZID:Europe/Paris
X-WR-TIMEZONE:Europe/Paris
BEGIN:VEVENT
UID:4404@laptitefabriquesolidaire.org
DTSTART;TZID=Europe/Paris:20260609T143000
DTEND;TZID=Europe/Paris:20260609T170000
DTSTAMP:20250904T145447Z
URL:https://www.laptitefabriquesolidaire.org/evenements/atelier-broder-rep
 riser-6-2025-08-05-2025-08-12-2025-08-19-2025-08-26-2025-09-02-2025-09-09-
 2025-09-16-2025-09-23-2025-09-30-2025-10-07-2025-10-14-2025-10-21-2025-10-
 28-2025-11-04-2025-1-02-2026-06-09/
SUMMARY:Atelier du fil
DESCRIPTION:Venez réparer\, broder\, tricoter avec Claire : 06 86 57 17 51
  (gratuit)
ATTACH;FMTTYPE=image/jpeg:https://www.laptitefabriquesolidaire.org/wp-cont
 ent/uploads/2023/08/repriser.jpg
END:VEVENT
BEGIN:VTIMEZONE
TZID:Europe/Paris
X-LIC-LOCATION:Europe/Paris
BEGIN:DAYLIGHT
DTSTART:20260329T030000
TZOFFSETFROM:+0100
TZOFFSETTO:+0200
TZNAME:CEST
END:DAYLIGHT
END:VTIMEZONE
END:VCALENDAR