BEGIN:VCALENDAR
VERSION:2.0
PRODID:-//wp-events-plugin.com//7.2.3.1//EN
TZID:Europe/Paris
X-WR-TIMEZONE:Europe/Paris
BEGIN:VEVENT
UID:4306@laptitefabriquesolidaire.org
DTSTART;TZID=Europe/Paris:20250920T140000
DTEND;TZID=Europe/Paris:20250920T160000
DTSTAMP:20250905T133435Z
URL:https://www.laptitefabriquesolidaire.org/evenements/atelier-alcoolatur
 e-de-plantes/
SUMMARY:Atelier Alcoolature de plantes
DESCRIPTION:Dans cet atelier\, Marine vous propose de prendre le temps de d
 écouvrir des plantes de saison qui nous entourent : où les trouver\, que
 ls sont leurs bienfaits\, comment les cueillir\, comment les conserver\, c
 omment les consommer ?\n\nElle fera (re)découvrir le procédé de la tein
 ture-mère ou alcoolature\, pour permettre à chacun.e d'en réaliser soi-
 même chez soi.\n\nNous réaliserons toutes les étapes de fabrication\, e
 t les participant.e.s repartiront avec une fiole de teinture-mère de la p
 lante de leur choix.\n\nPrix libre (matériel fourni).
ATTACH;FMTTYPE=image/jpeg:https://www.laptitefabriquesolidaire.org/wp-cont
 ent/uploads/2025/09/Screenshot-2025-09-04-at-15-18-03-Skull-King-pour-MO-A
 4.png
CATEGORIES:Évènement
END:VEVENT
BEGIN:VTIMEZONE
TZID:Europe/Paris
X-LIC-LOCATION:Europe/Paris
BEGIN:DAYLIGHT
DTSTART:20250330T030000
TZOFFSETFROM:+0100
TZOFFSETTO:+0200
TZNAME:CEST
END:DAYLIGHT
END:VTIMEZONE
END:VCALENDAR