BEGIN:VCALENDAR
VERSION:2.0
PRODID:-//wp-events-plugin.com//7.2.3.1//EN
TZID:Europe/Paris
X-WR-TIMEZONE:Europe/Paris
BEGIN:VEVENT
UID:4815@laptitefabriquesolidaire.org
DTSTART;TZID=Europe/Paris:20251113T183000
DTEND;TZID=Europe/Paris:20251113T190000
DTSTAMP:20251017T172841Z
URL:https://www.laptitefabriquesolidaire.org/evenements/arpentage-choix-du
 n-nouveau-livre-2/
SUMMARY:Arpentage - Choix d'un nouveau livre !
DESCRIPTION:Et si vous veniez arpenter avec nous ?\n\nAujourd'hui\, nous al
 lons choisir un nouveau livre à arpenter : venez avec vos suggestions !\n
 \nVous êtes les bienvenu.e.s !
ATTACH;FMTTYPE=image/jpeg:https://www.laptitefabriquesolidaire.org/wp-cont
 ent/uploads/2025/04/pexels-tara-winstead-8383418-scaled.jpg
CATEGORIES:Évènement
END:VEVENT
BEGIN:VTIMEZONE
TZID:Europe/Paris
X-LIC-LOCATION:Europe/Paris
BEGIN:STANDARD
DTSTART:20251026T020000
TZOFFSETFROM:+0200
TZOFFSETTO:+0100
TZNAME:CET
END:STANDARD
END:VTIMEZONE
END:VCALENDAR