BEGIN:VCALENDAR
VERSION:2.0
PRODID:-//wp-events-plugin.com//7.2.3.1//EN
TZID:Europe/Paris
X-WR-TIMEZONE:Europe/Paris
BEGIN:VEVENT
UID:4485@laptitefabriquesolidaire.org
DTSTART;TZID=Europe/Paris:20250926T190000
DTEND;TZID=Europe/Paris:20250926T190000
DTSTAMP:20250904T152356Z
URL:https://www.laptitefabriquesolidaire.org/evenements/apero-philo-2/
SUMMARY:Apéro Philo
DESCRIPTION:Le temps est-il notre ennemi? Avoir le temps\, prendre son temp
 s\, laisser le temps\, ... Peut-on réellement agir sur celui-ci\, ou cela
  nous rassure-t-il de le penser? Venez en discuter avec nous\, avec ou san
 s expérience\, mais toujours avec bienveillance. Avec Sabrina
ATTACH;FMTTYPE=image/jpeg:https://www.laptitefabriquesolidaire.org/wp-cont
 ent/uploads/2025/04/pexels-ale-pere-214984431-13437340-scaled.jpg
CATEGORIES:Évènement
END:VEVENT
BEGIN:VTIMEZONE
TZID:Europe/Paris
X-LIC-LOCATION:Europe/Paris
BEGIN:DAYLIGHT
DTSTART:20250330T030000
TZOFFSETFROM:+0100
TZOFFSETTO:+0200
TZNAME:CEST
END:DAYLIGHT
END:VTIMEZONE
END:VCALENDAR